BEGIN:VCALENDAR
VERSION:2.0
PRODID:-//wp-events-plugin.com//7.2.3.1//EN
BEGIN:VEVENT
UID:768@groenehartduurzamer.nl
DTSTART:20260304T140000Z
DTEND:20260304T153000Z
DTSTAMP:20260222T120521Z
URL:https://groenehartduurzamer.nl/activiteiten/zaaiworkshop-voor-kinderen
 /
SUMMARY:Zaaiworkshop voor kinderen
DESCRIPTION:Op dinsdag 4 maart heropent de Zadenbibliotheek in de Chocolade
 fabriek in Gouda haar deuren. De heropening wordt extra feestelijk met twe
 e inspirerende zaaiworkshops: ’s middags voor kinderen en ’s avonds vo
 or volwassenen. In de middag kunnen jonge tuiniers hun groene vingers ont
 dekken tijdens een vrolijke en leerzame workshop. Kinderen leren hoe een z
 aadje uitgroeit tot een plant\, zaaien hun eigen plantjes en krijgen prakt
 ische tips om thuis verder te kweken.\n\nTot slot\nDe workshops worden geo
 rganiseerd in samenwerking met Velt Groene Hart\, een vereniging voor ecol
 ogisch leven\, koken en tuinieren. Hun deskundige vrijwilligers delen graa
 g hun kennis en enthousiasme. Iedereen is van harte welkom om de heropenin
 g mee te vieren en geïnspireerd het nieuwe tuinseizoen te starten. Voor d
 eze workshop geld geen aanmelding\; vrije inloop. Check altijd de website 
 van de organisatie (Zadenbibliotheek Gouda of Velt Groene Hart) voor de la
 atste update.\n\n&nbsp\;
ATTACH;FMTTYPE=image/jpeg:https://groenehartduurzamer.nl/wp-content/upload
 s/2025/02/francesco-gallarotti-ruQHpukrN7c-unsplash-scaled.jpg
CATEGORIES:Activiteit voor kinderen,Workshops &amp; Lezingen
LOCATION:Chocoladefabriek\, Klein Amerika 20\, Gouda\, 2806 CA\, 
X-APPLE-STRUCTURED-LOCATION;VALUE=URI;X-ADDRESS=Klein Amerika 20\, Gouda\, 
 2806 CA\, ;X-APPLE-RADIUS=100;X-TITLE=Chocoladefabriek:geo:0,0
END:VEVENT
END:VCALENDAR