BEGIN:VCALENDAR
VERSION:2.0
PRODID:-//wp-events-plugin.com//7.2.3.1//EN
BEGIN:VEVENT
UID:610@groenehartduurzamer.nl
DTSTART:20251118T193000Z
DTEND:20251118T213000Z
DTSTAMP:20251110T091100Z
URL:https://groenehartduurzamer.nl/activiteiten/ontdek-de-geerplas/
SUMMARY:Ontdek de Geerplas
DESCRIPTION:Verborgen tussen het Zuid-Hollandse veenweidelandschap liggen d
 e Langeraarse Plassen. De noordelijkste van de drie\, de Geerplas\, is met
  zo’n 45 hectare een bijzonder stukje natuur. Hier vind je geen kassen o
 f grootschalige landbouw\, maar een mozaïek van weilanden\, water\, moera
 s\, hakhout en bos. Juist daardoor is veel van het oorspronkelijke landsch
 ap bewaard gebleven – en dat zie je terug in de rijke natuur die zich hi
 er heeft ontwikkeld. IVN afdeling Alphen a/d Rijn organiseert een lezing o
 ver dit bijzondere gebied in het Groene Hart\n\nVogels\n\nStef Strik en Ge
 rt-Jan Pieterse nemen je mee in de geschiedenis van het gebied én laten z
 e je kennismaken met de vogels die er leven. Sinds 1997 doen zij onderzoek
  in de Geerplas en hebben ze al ruim 100 vogelsoorten waargenomen. Een aan
 tal van deze soorten komt uitgebreid aan bod.\n\nMet prachtige foto’s ui
 t het gebied wordt het een inspirerende presentatie vol verhalen\, beelden
  en verrassingen – de ideale manier om kennis te maken met de natuur van
  de Geerplas\, en met de vogels die er thuis zijn.\n\nAanmelden\n\nDeelnam
 e kost 4 euro voor leden\, 6 euro voor niet-leden van IVN\n\nAanmelden is 
 verplicht: stuur een bericht naar lezingenIVNAlphen@gmail.com.\n\nKijk voo
 r de actuele informatie op de website https://www.ivn.nl/afdeling/alphen-a
 an-den-rijn
ATTACH;FMTTYPE=image/jpeg:https://groenehartduurzamer.nl/wp-content/upload
 s/2025/11/bird-1225961_1280.jpg
CATEGORIES:Informatieve bijeenkomsten,Workshops &amp; Lezingen
LOCATION:Bezoekerscentrum De Veenweiden\, Burgemeester Bruins Slotsingel 15
 \, Alphen aan den Rijn\, 2403 NC\, 
X-APPLE-STRUCTURED-LOCATION;VALUE=URI;X-ADDRESS=Burgemeester Bruins Slotsin
 gel 15\, Alphen aan den Rijn\, 2403 NC\, ;X-APPLE-RADIUS=100;X-TITLE=Bezoe
 kerscentrum De Veenweiden:geo:0,0
END:VEVENT
END:VCALENDAR