BEGIN:VCALENDAR
VERSION:2.0
PRODID:-//wp-events-plugin.com//7.2.3.1//EN
BEGIN:VEVENT
UID:188@groenehartduurzamer.nl
DTSTART:20250416T143000Z
DTEND:20250416T160000Z
DTSTAMP:20250410T124603Z
URL:https://groenehartduurzamer.nl/activiteiten/officiele-opening-de-brug-
 duurzaam-schoolgebouw/
SUMMARY:Officiële Opening De Brug - Duurzaam Schoolgebouw
DESCRIPTION:De Brug\, een innovatief nul-op-de-meter schoolgebouw\, opent o
 p 16 april 2025. Dit energiezuinige en duurzame gebouw draagt bij aan de g
 ezondheid en het welzijn van kinderen\, met een comfortabel binnenklimaat 
 en slimme energieoplossingen. De opening markeert een belangrijke mijlpaal
  voor het Groene Hart\, waarin onderwijs\, duurzaamheid en samenwerking ce
 ntraal staan.\n\nZie ook ons eerdere bericht hierover.\n\nProgramma:\n\n 	
 14:30 uur: Welkomstwoord en officiële opening van De Brug door wethouder 
 Elly de Vries en voorzitter College van Bestuur SPCO Groene Hart Marjan To
 massen en toespraak over de samenwerking tussen SPCO\, Kind&amp\;co Ludens
  en SenW\n 	14:45 uur: Rondgang door het duurzame schoolgebouw en sportiev
 e en creatieve activiteiten voor kinderen\n 	16:00 uur: Afsluiting\n\n&nbs
 p\;
ATTACH;FMTTYPE=image/jpeg:https://groenehartduurzamer.nl/wp-content/upload
 s/2025/04/image-1-e1744108623168.png
CATEGORIES:Activiteit voor kinderen,Informatieve bijeenkomsten
LOCATION:CBS De Brug\, Brandschouwer 2 \, Nieuwerbrug  \, 2415CC \, 
X-APPLE-STRUCTURED-LOCATION;VALUE=URI;X-ADDRESS=Brandschouwer 2 \, Nieuwerb
 rug  \, 2415CC \, ;X-APPLE-RADIUS=100;X-TITLE=CBS De Brug:geo:0,0
END:VEVENT
END:VCALENDAR