BEGIN:VCALENDAR
VERSION:2.0
PRODID:-//wp-events-plugin.com//7.2.3.1//EN
BEGIN:VEVENT
UID:764@groenehartduurzamer.nl
DTSTART:20260313T100000Z
DTEND:20260313T150000Z
DTSTAMP:20260213T143651Z
URL:https://groenehartduurzamer.nl/activiteiten/nldoet-bij-hortus-populus-
 samen-klussen-voor-een-duurzaam-seizoen/
SUMMARY:NLdoet bij Hortus Populus: samen klussen voor een duurzaam seizoen
DESCRIPTION:Tijdens NLdoet wordt er bij Hortus Populus samen gewerkt aan ee
 n frisse start van het nieuwe seizoen. Vrijwilligers steken de handen uit 
 de mouwen om het terrein klaar te maken voor bezoekers en activiteiten. Do
 or mee te helpen draag je direct bij aan duurzaamheid en een groene leefom
 geving in de gemeente Zuidplas\, midden in het Groene Hart. Het gaat om pr
 aktische klussen in en rond de tuin\, zodat alles weer netjes en verzorgd 
 is. Deelname is gratis.\n\nMeedoen aan de grootste vrijwilligersactie van 
 Nederland\nNLdoet is een landelijke actie waarbij duizenden mensen zich in
 zetten voor maatschappelijke en groene initiatieven. Ook in het Groene Har
 t doen verschillende gemeenten mee. Bij Hortus Populus werk je samen met a
 ndere vrijwilligers aan onderhoud en voorbereiding van het nieuwe seizoen.
  Voor koffie met iets lekkers en een voedzame lunch wordt gezorgd. Aanmeld
 en kan via informatie@hortuspopulus.nl of via de website van NLdoet.\nChec
 k altijd de website van de organisatie (Hortus Populus of NLdoet) voor de 
 laatste update.
ATTACH;FMTTYPE=image/jpeg:https://groenehartduurzamer.nl/wp-content/upload
 s/2025/02/jakub-zerdzicki-lPy2gqA5AY0-unsplash-scaled.jpg
CATEGORIES:Duurzame activiteiten,Meehelpen in de natuur
LOCATION:Hortus Populus\, Limespark 1\, Bodegraven\, 
X-APPLE-STRUCTURED-LOCATION;VALUE=URI;X-ADDRESS=Limespark 1\, Bodegraven\, 
 ;X-APPLE-RADIUS=100;X-TITLE=Hortus Populus:geo:0,0
END:VEVENT
END:VCALENDAR