BEGIN:VCALENDAR
VERSION:2.0
PRODID:-//wp-events-plugin.com//7.2.3.1//EN
BEGIN:VEVENT
UID:910@groenehartduurzamer.nl
DTSTART:20260424T080000Z
DTEND:20260425T143000Z
DTSTAMP:20260414T212241Z
URL:https://groenehartduurzamer.nl/activiteiten/bezoek-de-open-bloesemdage
 n-schoonhoven/
SUMMARY:Bezoek de Open Bloesemdagen (Schoonhoven)
DESCRIPTION:\n\n\n\n\n\n\nTijdens de Open Bloesemdagen is Boomgaard De Lekb
 ongerd vrij toegankelijk voor bezoekers. Deze cultuurhistorische hoogstamb
 oomgaard aan de rivier de Lek bestaat uit oude rassen appel-\, peren- en p
 ruimenbomen. In het voorjaar staan deze bomen in bloei en is de boomgaard 
 een toegankelijke plek om natuur en erfgoed van dichtbij te beleven.\nBezo
 ekers kunnen vrij rondwandelen tussen de bloesemende fruitbomen\, zelf fot
 o’s maken en gebruikmaken van de aanwezige picknickbanken. Er zijn koffi
 e\, thee\, sap en appelplaatcake beschikbaar om ter plekke te nuttigen. Oo
 k worden er eigen streekproducten verkocht\, zoals vers geperst appel- en 
 perensap uit de boomgaard.\nVoor kinderen zijn er kleinschalige activiteit
 en\, zoals een speurtocht naar insecten en planten (onder begeleiding van 
 een volwassene) en de mogelijkheid om op een oude tractor te zitten. Daarn
 aast is er aandacht voor natuurbeleving: bezoekers kunnen bijen en vogels 
 observeren en kennismaken met oude fruitrassen. Op vrijdag is er gelegenhe
 id om te luisteren naar een imker.\nCheck altijd de website van de organis
 atie voor de laatste update.\n\n\n\n\n\n\n\n
ATTACH;FMTTYPE=image/jpeg:https://groenehartduurzamer.nl/wp-content/upload
 s/2026/03/appels2_169.jpg
CATEGORIES:Duurzame activiteiten,Informatieve bijeenkomsten
LOCATION:Boomgaard De Lekbongerd\, Lekdijk West 85\, Schoonhoven\, Zuid-Hol
 land\, Krimpenerwaard\, 2871 MN\, Veenweide\, Nederland
X-APPLE-STRUCTURED-LOCATION;VALUE=URI;X-ADDRESS=Lekdijk West 85\, Schoonhov
 en\, Zuid-Holland\, Krimpenerwaard\, 2871 MN\, Veenweide\, Nederland;X-APP
 LE-RADIUS=100;X-TITLE=Boomgaard De Lekbongerd:geo:0,0
END:VEVENT
END:VCALENDAR